BEGIN:VCALENDAR
VERSION:2.0
PRODID:-//www.southernfolger.com//NONSGML Training_Calander_Registration//EN
METHOD:PUBLISH
BEGIN:VEVENT
UID:101744380126
DTSTAMP:20250415T083000
DTSTART:20250415T083000
DTEND:20250418T130000
LOCATION:Southern Folger Detention Equipment Company
SUMMARY:Training Classes
DESCRIPTION:These are the training days for this month
RRULE:FREQ=DAILY;COUNT=4
END:VEVENT
END:VCALENDAR